BEGIN:VCALENDAR
VERSION:2.0
PRODID:-//bioethics.com - ECPv6.15.20//NONSGML v1.0//EN
CALSCALE:GREGORIAN
METHOD:PUBLISH
X-WR-CALNAME:bioethics.com
X-ORIGINAL-URL:https://bioethics.com
X-WR-CALDESC:Events for bioethics.com
REFRESH-INTERVAL;VALUE=DURATION:PT1H
X-Robots-Tag:noindex
X-PUBLISHED-TTL:PT1H
BEGIN:VTIMEZONE
TZID:America/New_York
BEGIN:DAYLIGHT
TZOFFSETFROM:-0500
TZOFFSETTO:-0400
TZNAME:EDT
DTSTART:20250309T070000
END:DAYLIGHT
BEGIN:STANDARD
TZOFFSETFROM:-0400
TZOFFSETTO:-0500
TZNAME:EST
DTSTART:20251102T060000
END:STANDARD
BEGIN:DAYLIGHT
TZOFFSETFROM:-0500
TZOFFSETTO:-0400
TZNAME:EDT
DTSTART:20260308T070000
END:DAYLIGHT
BEGIN:STANDARD
TZOFFSETFROM:-0400
TZOFFSETTO:-0500
TZNAME:EST
DTSTART:20261101T060000
END:STANDARD
BEGIN:DAYLIGHT
TZOFFSETFROM:-0500
TZOFFSETTO:-0400
TZNAME:EDT
DTSTART:20270314T070000
END:DAYLIGHT
BEGIN:STANDARD
TZOFFSETFROM:-0400
TZOFFSETTO:-0500
TZNAME:EST
DTSTART:20271107T060000
END:STANDARD
END:VTIMEZONE
BEGIN:VEVENT
DTSTART;TZID=America/New_York:20260209T120000
DTEND;TZID=America/New_York:20260209T131500
DTSTAMP:20260424T095222
CREATED:20260121T224904Z
LAST-MODIFIED:20260121T224904Z
UID:101260-1770638400-1770642900@bioethics.com
SUMMARY:Working with What’s Missing: Ethical Strategies for Incomplete Data
DESCRIPTION:Missing\, inaccessible and incomplete data have long shaped the ways researchers frame studies and understand the limits of their work. Join us for a panel discussion where we will explore a number of questions concerning these persistent conditions of missingness: \n\nWhat ethical obligations arise when the data we need isn’t available or may never have existed?\nHow can researchers responsibly interpret and represent gaps\, silences and absences in data?\nWhen can collaboration with communities help preserve or reimagine data that is at risk of disappearing?\n\nTogether\, we’ll consider how the research community can adapt its practices to work ethically and creatively with what’s missing. \nThis event will be held online and is open to the public. \n\n\n\n\nThis event is presented in partnership with the Center for Ethics and Human Values’ CARE Program.
URL:https://bioethics.com/event/working-with-whats-missing-ethical-strategies-for-incomplete-data
LOCATION:Online
END:VEVENT
END:VCALENDAR