BEGIN:VCALENDAR
VERSION:2.0
PRODID:-//bioethics.com - ECPv6.15.20//NONSGML v1.0//EN
CALSCALE:GREGORIAN
METHOD:PUBLISH
X-WR-CALNAME:bioethics.com
X-ORIGINAL-URL:https://bioethics.com
X-WR-CALDESC:Events for bioethics.com
REFRESH-INTERVAL;VALUE=DURATION:PT1H
X-Robots-Tag:noindex
X-PUBLISHED-TTL:PT1H
BEGIN:VTIMEZONE
TZID:America/Chicago
BEGIN:DAYLIGHT
TZOFFSETFROM:-0600
TZOFFSETTO:-0500
TZNAME:CDT
DTSTART:20250309T080000
END:DAYLIGHT
BEGIN:STANDARD
TZOFFSETFROM:-0500
TZOFFSETTO:-0600
TZNAME:CST
DTSTART:20251102T070000
END:STANDARD
BEGIN:DAYLIGHT
TZOFFSETFROM:-0600
TZOFFSETTO:-0500
TZNAME:CDT
DTSTART:20260308T080000
END:DAYLIGHT
BEGIN:STANDARD
TZOFFSETFROM:-0500
TZOFFSETTO:-0600
TZNAME:CST
DTSTART:20261101T070000
END:STANDARD
BEGIN:DAYLIGHT
TZOFFSETFROM:-0600
TZOFFSETTO:-0500
TZNAME:CDT
DTSTART:20270314T080000
END:DAYLIGHT
BEGIN:STANDARD
TZOFFSETFROM:-0500
TZOFFSETTO:-0600
TZNAME:CST
DTSTART:20271107T070000
END:STANDARD
END:VTIMEZONE
BEGIN:VEVENT
DTSTART;TZID=America/Chicago:20260213T120000
DTEND;TZID=America/Chicago:20260213T130000
DTSTAMP:20260423T173630
CREATED:20260121T223617Z
LAST-MODIFIED:20260121T223617Z
UID:101253-1770984000-1770987600@bioethics.com
SUMMARY:Three Ways of Looking at Black/White Mortality Inequality in the United States
DESCRIPTION:A basic demographic fact about the United States is that\, on average\, White people live longer than Black people. But what\, concretely\, does this fact mean? Drawing from a diverse set of social science\, health\, and literary sources\, this talk argues that research has three families of strategy for making sense of the size of mortality disparities — distribution-based\, action-based\, and meaning-based measures — and provides new empirical results in each vein that collectively aim to put demographic measurement onto a more human footing. Implications for thinking about redress for racial harms are discussed. \nElizabeth Wrigley-Field\, PhD\, is an associate professor at the University of Minnesota. A sociologist and demographer\, she studies racial inequality in mortality in the historical and contemporary United States\, and specializes in finding comparisons and metrics that illuminate the human meaning of mortality disparities. She has extensively researched the Covid-19 pandemic in Minnesota\, where she also co-founded an award-winning community vaccination organization (the Seward Vaccine Equity Project). She is also a demographic methodologist\, developing models designed to clarify relationships between micro and macro perspectives on population processes. She was until recently the Associate Director of the Minnesota Population Center and is currently a Visiting Scholar at the Russell Sage Foundation.
URL:https://bioethics.com/event/three-ways-of-looking-at-black-white-mortality-inequality-in-the-united-states
LOCATION:Online
END:VEVENT
END:VCALENDAR